BEGIN:VCALENDAR
VERSION:2.0
PRODID:-//Tukios.com/
BEGIN:VEVENT
UID:bbe02c55-265c-4ba9-ad38-bbea84f055a5@www.sneadfuneralhome.net
DTSTAMP:20260424T192955Z
DTSTART:20260426T190000Z
DTEND:20260426T200000Z
SUMMARY:Graveside Service
DESCRIPTION:
URL:https://www.sneadfuneralhome.net/obituaries/tommy-owens
LOCATION: 87927 U.S. 278  Snead AL 35952
GEO:34.1129913;-86.3829688
END:VEVENT
END:VCALENDAR